BEGIN:VCALENDAR
VERSION:2.0
PRODID:Portland Steelheads
CALSCALE:GREGORIAN
BEGIN:VEVENT
DTSTAMP:20260425T174825Z
UID:2e718a91-41c5-4333-826f-fdb1c356cd4f
DTSTART:20150815T160000Z
DTEND:20150816T060000Z
DESCRIPTION:It's time again for the Stumptown Throwdown!\n\nThis year's Thr
 owdown will feature the\n\n\n	Portland Steelheads\n	Golden Gate Roos\n	Ora
 nge County Bombers\n	Seattle Grizzlies\n\n
LOCATION:
SUMMARY:Stumptown Throwdown
URL;VALUE=URI:https://portlandfooty.tidyhq.com/public/events/1903-stumptown
 -throwdown
END:VEVENT
END:VCALENDAR
